BEGIN:VCALENDAR
VERSION:2.0
PRODID:-//Georgia Society, Sons of the American Revolution - ECPv6.15.20//NONSGML v1.0//EN
CALSCALE:GREGORIAN
METHOD:PUBLISH
X-ORIGINAL-URL:https://stage.gasocietysar.org
X-WR-CALDESC:Events for Georgia Society, Sons of the American Revolution
REFRESH-INTERVAL;VALUE=DURATION:PT1H
X-Robots-Tag:noindex
X-PUBLISHED-TTL:PT1H
BEGIN:VTIMEZONE
TZID:America/New_York
BEGIN:DAYLIGHT
TZOFFSETFROM:-0500
TZOFFSETTO:-0400
TZNAME:EDT
DTSTART:20180311T070000
END:DAYLIGHT
BEGIN:STANDARD
TZOFFSETFROM:-0400
TZOFFSETTO:-0500
TZNAME:EST
DTSTART:20181104T060000
END:STANDARD
BEGIN:DAYLIGHT
TZOFFSETFROM:-0500
TZOFFSETTO:-0400
TZNAME:EDT
DTSTART:20190310T070000
END:DAYLIGHT
BEGIN:STANDARD
TZOFFSETFROM:-0400
TZOFFSETTO:-0500
TZNAME:EST
DTSTART:20191103T060000
END:STANDARD
BEGIN:DAYLIGHT
TZOFFSETFROM:-0500
TZOFFSETTO:-0400
TZNAME:EDT
DTSTART:20200308T070000
END:DAYLIGHT
BEGIN:STANDARD
TZOFFSETFROM:-0400
TZOFFSETTO:-0500
TZNAME:EST
DTSTART:20201101T060000
END:STANDARD
BEGIN:DAYLIGHT
TZOFFSETFROM:-0500
TZOFFSETTO:-0400
TZNAME:EDT
DTSTART:20210314T070000
END:DAYLIGHT
BEGIN:STANDARD
TZOFFSETFROM:-0400
TZOFFSETTO:-0500
TZNAME:EST
DTSTART:20211107T060000
END:STANDARD
BEGIN:DAYLIGHT
TZOFFSETFROM:-0500
TZOFFSETTO:-0400
TZNAME:EDT
DTSTART:20220313T070000
END:DAYLIGHT
BEGIN:STANDARD
TZOFFSETFROM:-0400
TZOFFSETTO:-0500
TZNAME:EST
DTSTART:20221106T060000
END:STANDARD
BEGIN:DAYLIGHT
TZOFFSETFROM:-0500
TZOFFSETTO:-0400
TZNAME:EDT
DTSTART:20230312T070000
END:DAYLIGHT
BEGIN:STANDARD
TZOFFSETFROM:-0400
TZOFFSETTO:-0500
TZNAME:EST
DTSTART:20231105T060000
END:STANDARD
END:VTIMEZONE
BEGIN:VEVENT
DTSTART;TZID=America/New_York:20221203T150000
DTEND;TZID=America/New_York:20221203T160000
DTSTAMP:20260424T213829
CREATED:20220816T222311Z
LAST-MODIFIED:20221122T204530Z
UID:6481-1670079600-1670083200@stage.gasocietysar.org
SUMMARY:Compatriot Jim Butterworth - Lyman Hall Chapter event
DESCRIPTION:Saturday\,  3 December 2022\, at 3:00 PM \nLocation: Yonah Memorial Gardens\, 255 US-41 Business\, Demorest\, GA   30535 \nGPS of Cemetery: 34.5556\, -83.5479 \nCompatriot marking for Judge James Newby Butterworh\, who was a Vice-President of the Lyman Hall Chapter Georgia Society SAR
URL:https://stage.gasocietysar.org/event/compatriot-jim-butterworth-lyman-hall-chapter-event/
CATEGORIES:GA Society Chapter Events,GASSAR Color Guard
END:VEVENT
BEGIN:VEVENT
DTSTART;TZID=America/New_York:20221001T110000
DTEND;TZID=America/New_York:20221001T120000
DTSTAMP:20260424T213829
CREATED:20220905T142444Z
LAST-MODIFIED:20221005T211006Z
UID:6523-1664622000-1664625600@stage.gasocietysar.org
SUMMARY:Huguenot Society Bench Dedication in Elberton - CANCELLED
DESCRIPTION:10-01-2022 – Bench Dedication – Elberton\, GA – 11:00 AM \nElberton Walking Trail – near light pole #2 \nThe Huguenot Society of Georgia is dedicating a park bench on the Elberton Walking trail on Oct 1 at 11:00 AM. \nIf we could get some Color guardsmen to present the colors and work with the local school JROTC that would be great.  The JROTC will be doing the formal color presentation. \nThe closest street address is the Elberton Catholic Church at 155 Forest Avenue.  The bench is near light pole 28 on the trail. \nContact John Trussell – Phone 478-957-7411
URL:https://stage.gasocietysar.org/event/huguenot-society-bench-dedication-in-elberton/
CATEGORIES:GA Society Chapter Events,GASSAR Color Guard,Miscellaneous Events
END:VEVENT
BEGIN:VEVENT
DTSTART;TZID=America/New_York:20220611T100000
DTEND;TZID=America/New_York:20220611T110000
DTSTAMP:20260424T213829
CREATED:20220316T155558Z
LAST-MODIFIED:20220316T155558Z
UID:5886-1654941600-1654945200@stage.gasocietysar.org
SUMMARY:Flag Retirement Ceremony
DESCRIPTION:Robert Forsyth and Piedmont Chapters Annual Flag Retirement Ceremony \nIngram Funeral Home Chapel\, 10:00 am June 11\, 2022
URL:https://stage.gasocietysar.org/event/flag-retirement-ceremony-2/
CATEGORIES:GA Society Chapter Events
END:VEVENT
BEGIN:VEVENT
DTSTART;TZID=America/New_York:20220521T110000
DTEND;TZID=America/New_York:20220521T120000
DTSTAMP:20260424T213829
CREATED:20220430T175106Z
LAST-MODIFIED:20220430T175106Z
UID:5988-1653130800-1653134400@stage.gasocietysar.org
SUMMARY:SAR Grave Marker Dedication
DESCRIPTION:The Joseph Habersham Chapter\nGeorgia Society Sons of the American Revolution \n\nRequest the honor of your presence at the dedication of a\nSAR Grave Marker\nMay 21\, 2022\n11:00 AM \n\nCommemorating the service of Revolutionary War Solider\nJohn S. Strange \n\nThe ceremony will be conducted at the\nStrange Family Cemetery\n1433 GA Hwy 51\nCarnesville\, GA 30521\nFranklin County \nPlease send wreath information (Presenter Name\, Title\, and Organization) to\ncashlg@windstream.net by May 13\, 2022.\nComing from Athens or Atlanta; Interstate 85 exit 149 at Banks Crossing to U S Hwy 441 north 7 miles\, turn right onto GA Hwy 51 east 5.6 miles. Entrance on right at white frame homeplace.\nComing from Carnesville\, Hartwell; Interstate 85 exit # 160 to GA Hwy 51 west for 4.1 miles. Entrance on left at white frame homeplace.\nCemetery GPS coordinates: 34.3710162\, -83.3801284 SAR PRS Number P-299319
URL:https://stage.gasocietysar.org/event/sar-grave-marker-dedication/
CATEGORIES:GA Society Chapter Events
END:VEVENT
BEGIN:VEVENT
DTSTART;TZID=America/New_York:20220318T090000
DTEND;TZID=America/New_York:20220318T150000
DTSTAMP:20260424T213829
CREATED:20220311T205725Z
LAST-MODIFIED:20220311T205805Z
UID:5861-1647594000-1647615600@stage.gasocietysar.org
SUMMARY:Revolutionary War Re-enactment / Living History Event
DESCRIPTION:In Celebration of America’s upcoming 250th Anniversary the Henry Laurens Chapter Sons of The American Revolution invite you to a Revolutionary War Re-enactment / Living History Event: \nPlace: Aiken High School\nDate: 18 March 2022\nTime: 9 AM to 3 PM\nAddress: 449 Rutland Drive NW\, Aiken SC 29801 (School Football Field) \nTo ensure your organization’s recognition and event requirements\, please complete and return the registration information provided to Ted Walker\, event Coordinator\, at\nTed Walker\, Event Coordinator\, 207 Chalk Bed Road\, Graniteville\, SC 29829 or Email: twalkerj@bellsouth.net\nPhone (803) 599-1654 \nPlease arrive to set up prior to start time of event. \nName:\nPresentation display Type:\nWill you bring Traveling Trunk Display?\nWhat is your historical / educational display?\nAddress:\nTelephone Number and Email address:\nWill you be in uniform / Militia or colonial attire?\nWill you participate in Color guard?\nWill you participate in battle re-enactment? \nIf you need assistance or need more information please call Ted Walker at (803)599-1654\nTed Walker\, VP Piedmont Region\, SCSSAR
URL:https://stage.gasocietysar.org/event/revolutionary-war-re-enactment-living-history-event/
CATEGORIES:GA Society Chapter Events
END:VEVENT
BEGIN:VEVENT
DTSTART;TZID=America/New_York:20210619T093000
DTEND;TZID=America/New_York:20210619T103000
DTSTAMP:20260424T213829
CREATED:20210518T120406Z
LAST-MODIFIED:20210518T120406Z
UID:5265-1624095000-1624098600@stage.gasocietysar.org
SUMMARY:Flag Retirement Ceremony
DESCRIPTION:Robert Forsyth Chapter and Piedmont Chapter\nFlag Retirement Ceremony\nSaturday\, June 19\, 2021\n9:30 a.m.\nIngram Funeral Home Chapel\nCumming\, GA
URL:https://stage.gasocietysar.org/event/flag-retirement-ceremony/
CATEGORIES:GA Society Chapter Events
END:VEVENT
BEGIN:VEVENT
DTSTART;TZID=America/New_York:20191005T190000
DTEND;TZID=America/New_York:20191005T220000
DTSTAMP:20260424T213829
CREATED:20190818T175518Z
LAST-MODIFIED:20190818T204309Z
UID:3426-1570302000-1570312800@stage.gasocietysar.org
SUMMARY:Little River Chapter Charter Banquet
DESCRIPTION:The Little River Chapter\nOf\nThe Georgia Society\nSons of the American Revolution \n  \nCordially invites you and your guest(s) to attend our \nCharter Banquet\n \nSaturday\, October 5\, 2019\n7:00 p.m.\nBelle Meade Country Club\n2660 Twin Pine Road\nThomson\, GA 30824 \n\nReceipt of payment prior to September 21 is your RSVP \nCost: $45 per person \nMake checks payable to: \nLittle River Chapter SAR \nMail Check and Reply Card to (Click for Reply Card): \nLewis Smith \n2079 White Oak Road \nThomson\, Georgia 30824\nA Cash Bar Will Be Available \nDress: Coat and Tie or \nRevolutionary War Era Uniform/Clothing \nCall 706-825-5810 for more information\nFor those who would like to stay overnight\, we have reserved rooms at the Hampton Inn in Thomson\, 706-595-5300.  When calling\, please ask for the Sons of the American Revolution rate.   The total for a room will be $120.26 per night\, including tax.   The hotel has a pool\, free WiFi\, and a great breakfast bar.    It is located 2.5 miles from the banquet venue\, Belle Meade Country Club.
URL:https://stage.gasocietysar.org/event/little-river-chapter-charter-banquet/
CATEGORIES:GA Society Chapter Events
END:VEVENT
END:VCALENDAR