BEGIN:VCALENDAR
VERSION:2.0
PRODID:-//Georgia Society, Sons of the American Revolution - ECPv6.15.20//NONSGML v1.0//EN
CALSCALE:GREGORIAN
METHOD:PUBLISH
X-WR-CALNAME:Georgia Society, Sons of the American Revolution
X-ORIGINAL-URL:https://stage.gasocietysar.org
X-WR-CALDESC:Events for Georgia Society, Sons of the American Revolution
REFRESH-INTERVAL;VALUE=DURATION:PT1H
X-Robots-Tag:noindex
X-PUBLISHED-TTL:PT1H
BEGIN:VTIMEZONE
TZID:America/New_York
BEGIN:DAYLIGHT
TZOFFSETFROM:-0500
TZOFFSETTO:-0400
TZNAME:EDT
DTSTART:20160313T070000
END:DAYLIGHT
BEGIN:STANDARD
TZOFFSETFROM:-0400
TZOFFSETTO:-0500
TZNAME:EST
DTSTART:20161106T060000
END:STANDARD
BEGIN:DAYLIGHT
TZOFFSETFROM:-0500
TZOFFSETTO:-0400
TZNAME:EDT
DTSTART:20170312T070000
END:DAYLIGHT
BEGIN:STANDARD
TZOFFSETFROM:-0400
TZOFFSETTO:-0500
TZNAME:EST
DTSTART:20171105T060000
END:STANDARD
BEGIN:DAYLIGHT
TZOFFSETFROM:-0500
TZOFFSETTO:-0400
TZNAME:EDT
DTSTART:20180311T070000
END:DAYLIGHT
BEGIN:STANDARD
TZOFFSETFROM:-0400
TZOFFSETTO:-0500
TZNAME:EST
DTSTART:20181104T060000
END:STANDARD
END:VTIMEZONE
BEGIN:VEVENT
DTSTART;TZID=America/New_York:20171006T110000
DTEND;TZID=America/New_York:20171006T120000
DTSTAMP:20260425T120416
CREATED:20170826T201907Z
LAST-MODIFIED:20170826T202236Z
UID:1258-1507287600-1507291200@stage.gasocietysar.org
SUMMARY:Fisher Craft Grave Dedication
DESCRIPTION:The Atlanta Chapter of the Georgia Society SAR will hold a Grave Dedication for our longtime friend Fisher Craft.  Fisher had a distinguished history with the Sons of the American Revolution having served as President of the Atlanta Chapter\, President of the Georgia State Society and Vice President General of the National Society.  He was also the recipient of the Minuteman Award\, the SAR’s the highest award presented to a member by the SAR presented for distinguished service rendered to the SAR on the national level. \nThe ceremony will take place at the Decatur Cemetery.  For further information\, please contact Henry Cobb whc2gt@yahoo.com
URL:https://stage.gasocietysar.org/event/fisher-craft-grave-dedication/
CATEGORIES:Grave Dedication
END:VEVENT
BEGIN:VEVENT
DTSTART;TZID=America/New_York:20170928T080000
DTEND;TZID=America/New_York:20170930T170000
DTSTAMP:20260425T120416
CREATED:20170615T174003Z
LAST-MODIFIED:20170905T130128Z
UID:725-1506585600-1506790800@stage.gasocietysar.org
SUMMARY:GSSAR Color Guard
DESCRIPTION:NSSAR Fall Leadership\, Louisville\, KY: Ed Rigel\, Sr.\, George Thurmond\, Allen Greenly\, Paul Prescott\, Shep Hammack
URL:https://stage.gasocietysar.org/event/gssar-color-guard-12/
CATEGORIES:National Events
END:VEVENT
BEGIN:VEVENT
DTSTART;VALUE=DATE:20170928
DTEND;VALUE=DATE:20171001
DTSTAMP:20260425T120416
CREATED:20170615T145614Z
LAST-MODIFIED:20170615T145614Z
UID:691-1506556800-1506815999@stage.gasocietysar.org
SUMMARY:National Society SAR Fall Leadership
DESCRIPTION:
URL:https://stage.gasocietysar.org/event/national-society-sar-fall-leadership/
LOCATION:Louisville\, KY
END:VEVENT
BEGIN:VEVENT
DTSTART;TZID=America/New_York:20170909T140000
DTEND;TZID=America/New_York:20170909T150000
DTSTAMP:20260425T120416
CREATED:20170829T205539Z
LAST-MODIFIED:20170905T195614Z
UID:1293-1504965600-1504969200@stage.gasocietysar.org
SUMMARY:Patriot Grave Marking
DESCRIPTION:Patriot Joshua Jones Grave Marking\, 3pm\, Biltmore House\, Ashville\, N.C.: Bill Palmer\, Emil Decker
URL:https://stage.gasocietysar.org/event/patriot-grave-marking/
END:VEVENT
BEGIN:VEVENT
DTSTART;TZID=America/New_York:20170902T110000
DTEND;TZID=America/New_York:20170902T160000
DTSTAMP:20260425T120416
CREATED:20170615T172827Z
LAST-MODIFIED:20170829T205255Z
UID:711-1504350000-1504368000@stage.gasocietysar.org
SUMMARY:GSSAR Color Guard
DESCRIPTION:11:00 am – Patriot Rev. Thomas Maxwell Grave Marking\, Elbert Co.: Allen Greenly\, Bill Palmer\, James Stallings\, Shep Hammack\, Carter Wood\, George Thurmond\, John Hyatt\, Larry Guzy\, John Mortison\, Ed Rigel Sr.\, Larry Whitfield\, Larry Wilson\, Emil Decker\, Jack Dugger\, Bennie Koon\, Gordon Woodard\, Bruce Maney\, Don Burdick\, Sid Turner\, Don Thomas\, Bob Sapp\, Mike Watkins\n2:00 pm – Patriot William Bibb Key Grave Marking 2pm Elbert County:  Allen Greenly\, Bill Palmer\, James Stallings\, Shep Hammack\, Carter Wood\, George Thurmond\, John Hyatt\, Larry Guzy\, John Mortison\, Ed Rigel Sr.\, Larry Whitfield\, Larry Wilson\, Emil Decker\, Jack Dugger\, Bennie Koon\, Gordon Woodard\, Bruce Maney\, Don Burdick\, Sid Turner\, Don Thomas\, Bob Sapp\, Mike Watkins
URL:https://stage.gasocietysar.org/event/gssar-color-guard-7/
CATEGORIES:Grave Dedication
END:VEVENT
BEGIN:VEVENT
DTSTART;TZID=America/New_York:20170729T100000
DTEND;TZID=America/New_York:20170729T130000
DTSTAMP:20260425T120416
CREATED:20170615T172624Z
LAST-MODIFIED:20170615T172624Z
UID:709-1501322400-1501333200@stage.gasocietysar.org
SUMMARY:GSSAR Color Guard
DESCRIPTION:BOM Meeting\, Barnesville\, GA\, 1000 hrs: Paul Prescott\, Ed Rigel\, Sr.\, Ed Rigel\, Jr.\, Jack Dugger\, George Thurmond\, Shep Hammack\, Bill Palmer\, Allen Greenly
URL:https://stage.gasocietysar.org/event/gssar-color-guard-6/
CATEGORIES:GA Society Events
END:VEVENT
BEGIN:VEVENT
DTSTART;TZID=America/New_York:20170729T100000
DTEND;TZID=America/New_York:20170729T130000
DTSTAMP:20260425T120416
CREATED:20170615T141548Z
LAST-MODIFIED:20170615T150127Z
UID:680-1501322400-1501333200@stage.gasocietysar.org
SUMMARY:Georgia Society SAR Board of Managers
DESCRIPTION:
URL:https://stage.gasocietysar.org/event/georgia-society-sar-board-of-managers/
LOCATION:Garden Patch Restaurant\, 100 Southland Drive\, Barnesville\, GA\, 30204\, United States
CATEGORIES:GA Society Events
ORGANIZER;CN="Georgia Society SAR President%2C Wayne L. Brown":MAILTO:engineerscorner@gmail.com
END:VEVENT
BEGIN:VEVENT
DTSTART;TZID=America/New_York:20170719T110000
DTEND;TZID=America/New_York:20170719T130000
DTSTAMP:20260425T120416
CREATED:20170615T140546Z
LAST-MODIFIED:20170615T140546Z
UID:672-1500462000-1500469200@stage.gasocietysar.org
SUMMARY:Executive Committee
DESCRIPTION:
URL:https://stage.gasocietysar.org/event/executive-committee/
LOCATION:J. Christopher’s\, 5482 Chamblee Dunwoody Rd\, Atlanta\, GA\, 30338\, United States
CATEGORIES:GA Society Events
END:VEVENT
BEGIN:VEVENT
DTSTART;VALUE=DATE:20170714
DTEND;VALUE=DATE:20170715
DTSTAMP:20260425T120416
CREATED:20170614T200914Z
LAST-MODIFIED:20170614T200914Z
UID:643-1499990400-1500076799@stage.gasocietysar.org
SUMMARY:Bastille Day
DESCRIPTION:
URL:https://stage.gasocietysar.org/event/bastille-day/
END:VEVENT
BEGIN:VEVENT
DTSTART;VALUE=DATE:20170708
DTEND;VALUE=DATE:20170714
DTSTAMP:20260425T120417
CREATED:20170615T145403Z
LAST-MODIFIED:20170615T145403Z
UID:688-1499472000-1499990399@stage.gasocietysar.org
SUMMARY:National Society SAR Annual Congress
DESCRIPTION:
URL:https://stage.gasocietysar.org/event/national-society-sar-annual-congress/
LOCATION:Knoxville\, TN
END:VEVENT
BEGIN:VEVENT
DTSTART;VALUE=DATE:20170707
DTEND;VALUE=DATE:20170713
DTSTAMP:20260425T120417
CREATED:20170615T172458Z
LAST-MODIFIED:20170615T175947Z
UID:707-1499385600-1499903999@stage.gasocietysar.org
SUMMARY:GSSAR Color Guard
DESCRIPTION:127th Annual Congress\, Knoxville\, TN: Ed Rigel\, Sr.\, George Thurmond\, Allen Greenly\, Ed Rigel\, Jr.\, Jack Dugger\, Shep Hammack
URL:https://stage.gasocietysar.org/event/gssar-color-guard-5/
CATEGORIES:GA Society Events
END:VEVENT
BEGIN:VEVENT
DTSTART;TZID=America/New_York:20170704T080000
DTEND;TZID=America/New_York:20170704T170000
DTSTAMP:20260425T120417
CREATED:20170614T200819Z
LAST-MODIFIED:20170614T200819Z
UID:597-1499155200-1499187600@stage.gasocietysar.org
SUMMARY:Independence Day
DESCRIPTION:
URL:https://stage.gasocietysar.org/event/independence-day/
END:VEVENT
BEGIN:VEVENT
DTSTART;VALUE=DATE:20170704
DTEND;VALUE=DATE:20170705
DTSTAMP:20260425T120417
CREATED:20170615T150614Z
LAST-MODIFIED:20170615T180443Z
UID:699-1499126400-1499212799@stage.gasocietysar.org
SUMMARY:GSSAR Color Guard
DESCRIPTION:Atlanta Braves Stadium\n11:00am – 4th of July Parade Demorest
URL:https://stage.gasocietysar.org/event/gssar-color-guard-2/
CATEGORIES:Historic Sites & Celebrations
END:VEVENT
BEGIN:VEVENT
DTSTART;TZID=America/New_York:20170617T080000
DTEND;TZID=America/New_York:20170617T170000
DTSTAMP:20260425T120417
CREATED:20170615T172205Z
LAST-MODIFIED:20170615T175804Z
UID:705-1497686400-1497718800@stage.gasocietysar.org
SUMMARY:GSSAR Color Guard
DESCRIPTION:Battle of Ramsour’s Mill\, Lincolnton\, SC: Allen Greenly\, Ed Rigel\, Sr.\, Hall Martin\, Sr.\, David Martin\, Jack Dugger\, Bill Palmer
URL:https://stage.gasocietysar.org/event/gssar-color-guard-4/
CATEGORIES:Historic Sites & Celebrations
END:VEVENT
BEGIN:VEVENT
DTSTART;TZID=America/New_York:20170611T110000
DTEND;TZID=America/New_York:20170611T130000
DTSTAMP:20260425T120417
CREATED:20170615T172042Z
LAST-MODIFIED:20170615T175827Z
UID:703-1497178800-1497186000@stage.gasocietysar.org
SUMMARY:GSSAR Color Guard
DESCRIPTION:Warrior Classic: Bill Palmer\, Carter Wood
URL:https://stage.gasocietysar.org/event/gssar-color-guard-3/
CATEGORIES:Historic Sites & Celebrations
END:VEVENT
END:VCALENDAR