BEGIN:VCALENDAR
VERSION:2.0
PRODID:-//Georgia Society, Sons of the American Revolution - ECPv6.15.20//NONSGML v1.0//EN
CALSCALE:GREGORIAN
METHOD:PUBLISH
X-ORIGINAL-URL:https://stage.gasocietysar.org
X-WR-CALDESC:Events for Georgia Society, Sons of the American Revolution
REFRESH-INTERVAL;VALUE=DURATION:PT1H
X-Robots-Tag:noindex
X-PUBLISHED-TTL:PT1H
BEGIN:VTIMEZONE
TZID:America/New_York
BEGIN:DAYLIGHT
TZOFFSETFROM:-0500
TZOFFSETTO:-0400
TZNAME:EDT
DTSTART:20160313T070000
END:DAYLIGHT
BEGIN:STANDARD
TZOFFSETFROM:-0400
TZOFFSETTO:-0500
TZNAME:EST
DTSTART:20161106T060000
END:STANDARD
BEGIN:DAYLIGHT
TZOFFSETFROM:-0500
TZOFFSETTO:-0400
TZNAME:EDT
DTSTART:20170312T070000
END:DAYLIGHT
BEGIN:STANDARD
TZOFFSETFROM:-0400
TZOFFSETTO:-0500
TZNAME:EST
DTSTART:20171105T060000
END:STANDARD
BEGIN:DAYLIGHT
TZOFFSETFROM:-0500
TZOFFSETTO:-0400
TZNAME:EDT
DTSTART:20180311T070000
END:DAYLIGHT
BEGIN:STANDARD
TZOFFSETFROM:-0400
TZOFFSETTO:-0500
TZNAME:EST
DTSTART:20181104T060000
END:STANDARD
END:VTIMEZONE
BEGIN:VEVENT
DTSTART;VALUE=DATE:20170707
DTEND;VALUE=DATE:20170713
DTSTAMP:20260425T132712
CREATED:20170615T172458Z
LAST-MODIFIED:20170615T175947Z
UID:707-1499385600-1499903999@stage.gasocietysar.org
SUMMARY:GSSAR Color Guard
DESCRIPTION:127th Annual Congress\, Knoxville\, TN: Ed Rigel\, Sr.\, George Thurmond\, Allen Greenly\, Ed Rigel\, Jr.\, Jack Dugger\, Shep Hammack
URL:https://stage.gasocietysar.org/event/gssar-color-guard-5/
LOCATION:GA
CATEGORIES:GA Society Events
END:VEVENT
BEGIN:VEVENT
DTSTART;TZID=America/New_York:20170704T080000
DTEND;TZID=America/New_York:20170704T170000
DTSTAMP:20260425T132712
CREATED:20170614T200819Z
LAST-MODIFIED:20170614T200819Z
UID:597-1499155200-1499187600@stage.gasocietysar.org
SUMMARY:Independence Day
DESCRIPTION:
URL:https://stage.gasocietysar.org/event/independence-day/
LOCATION:GA
END:VEVENT
BEGIN:VEVENT
DTSTART;VALUE=DATE:20170704
DTEND;VALUE=DATE:20170705
DTSTAMP:20260425T132712
CREATED:20170615T150614Z
LAST-MODIFIED:20170615T180443Z
UID:699-1499126400-1499212799@stage.gasocietysar.org
SUMMARY:GSSAR Color Guard
DESCRIPTION:Atlanta Braves Stadium\n11:00am – 4th of July Parade Demorest
URL:https://stage.gasocietysar.org/event/gssar-color-guard-2/
LOCATION:GA
CATEGORIES:Historic Sites & Celebrations
END:VEVENT
BEGIN:VEVENT
DTSTART;TZID=America/New_York:20170617T080000
DTEND;TZID=America/New_York:20170617T170000
DTSTAMP:20260425T132712
CREATED:20170615T172205Z
LAST-MODIFIED:20170615T175804Z
UID:705-1497686400-1497718800@stage.gasocietysar.org
SUMMARY:GSSAR Color Guard
DESCRIPTION:Battle of Ramsour’s Mill\, Lincolnton\, SC: Allen Greenly\, Ed Rigel\, Sr.\, Hall Martin\, Sr.\, David Martin\, Jack Dugger\, Bill Palmer
URL:https://stage.gasocietysar.org/event/gssar-color-guard-4/
LOCATION:GA
CATEGORIES:Historic Sites & Celebrations
END:VEVENT
BEGIN:VEVENT
DTSTART;TZID=America/New_York:20170611T110000
DTEND;TZID=America/New_York:20170611T130000
DTSTAMP:20260425T132712
CREATED:20170615T172042Z
LAST-MODIFIED:20170615T175827Z
UID:703-1497178800-1497186000@stage.gasocietysar.org
SUMMARY:GSSAR Color Guard
DESCRIPTION:Warrior Classic: Bill Palmer\, Carter Wood
URL:https://stage.gasocietysar.org/event/gssar-color-guard-3/
LOCATION:GA
CATEGORIES:Historic Sites & Celebrations
END:VEVENT
END:VCALENDAR